BEGIN:VCALENDAR
VERSION:2.0
PRODID:-//PROFESSION JURISTE
CALSCALE:GREGORIAN
METHOD:PUBLISH
X-WR-CALNAME:PROFESSION JURISTE
X-ORIGINAL-URL:https://profession-juriste.ci/evenement/cafe-juridique-creer-son-entreprise-en-cote-divoire-les-fondamentaux-a-maitriser-avant-la-formalisation/
X-WR-CALDESC:Café Juridique : Créer son entreprise en Côte d&rsquo;Ivoire : Les fondamentaux à maîtriser avant la formalisation
BEGIN:VEVENT
DTSTART:20260521T180000
DTEND:20260522T210000
SUMMARY:Café Juridique : Créer son entreprise en Côte d&rsquo;Ivoire : Les fondamentaux à maîtriser avant la formalisation
DESCRIPTION:
LOCATION:Ivoire-juriste
END:VEVENT
END:VCALENDAR
