BEGIN:VCALENDAR
VERSION:2.0
PRODID:-//PROFESSION JURISTE
CALSCALE:GREGORIAN
METHOD:PUBLISH
X-WR-CALNAME:PROFESSION JURISTE
X-ORIGINAL-URL:https://profession-juriste.ci/evenement/concours-ena-et-infj-strategies-gagnantes-et-secrets-de-preparation/
X-WR-CALDESC:Concours ENA et INFJ : Stratégies gagnantes et secrets de préparation
BEGIN:VEVENT
DTSTART:20260117T090000
DTEND:20260117T120000
SUMMARY:Concours ENA et INFJ : Stratégies gagnantes et secrets de préparation
DESCRIPTION:
LOCATION:IVOIRE JURISTE
END:VEVENT
END:VCALENDAR
