BEGIN:VCALENDAR
VERSION:2.0
PRODID:-//PROFESSION JURISTE
CALSCALE:GREGORIAN
METHOD:PUBLISH
X-WR-CALNAME:PROFESSION JURISTE
X-ORIGINAL-URL:https://profession-juriste.ci/evenement/formation-investir-dans-limmobilier-en-cote-divoire-sans-se-faire-arnaquer/
X-WR-CALDESC:Formation : Investissement immobilier en Côte d’Ivoire: Les Méthodes juridiques et pratiques pour éviter les arnaques
BEGIN:VEVENT
DTSTART:20260516T090000
DTEND:20260516T160000
SUMMARY:Formation : Investissement immobilier en Côte d’Ivoire: Les Méthodes juridiques et pratiques pour éviter les arnaques
DESCRIPTION:Investir depuis l’étranger ou sur place dans l'immobilier en Côte d'Ivoire vous tente, mais la peur des arnaques vous freine ? Participez à notre conférence et formation EXCLUSIVE.
LOCATION:Centre Thémis OHADA
END:VEVENT
END:VCALENDAR
